BEGIN:VCALENDAR
VERSION:2.0
PRODID:spatie/icalendar-generator
DESCRIPTION:Events from Veterans Association of Bristol County
X-WR-CALDESC:Events from Veterans Association of Bristol County
REFRESH-INTERVAL;VALUE=DURATION:PT1440M
X-PUBLISHED-TTL:PT1440M
BEGIN:VTIMEZONE
TZID:America/New_York
BEGIN:STANDARD
DTSTART:20241103T020000Z
TZOFFSETFROM:-0400
TZOFFSETTO:-0500
END:STANDARD
BEGIN:DAYLIGHT
DTSTART:20250309T020000Z
TZOFFSETFROM:-0500
TZOFFSETTO:-0400
END:DAYLIGHT
END:VTIMEZONE
BEGIN:VTIMEZONE
TZID:UTC
BEGIN:STANDARD
DTSTART:20250725T100005Z
TZOFFSETFROM:+0000
TZOFFSETTO:+0000
END:STANDARD
END:VTIMEZONE
BEGIN:VEVENT
UID:6843-38
DTSTAMP:20260421T100005Z
SUMMARY:Army vs. Navy Football Watch Party
LOCATION:VFW Post 8502 Westport  843 State Rd  Westport MA 02790
ORGANIZER;CN=business@thevabc.org:MAILTO:business@thevabc.org
DTSTART;TZID=America/New_York:20241214T150000
DTEND;TZID=America/New_York:20241214T160000
X-ALT-DESC;FMTTYPE=TEXT/HTML:Join us for an exciting afternoon of football 
 as the Army takes on the Navy! The Veterans Association of Bristol County 
 invites you to our annual watch party at the Westport VFW on December 14\,
  2024. When: Kickoff at 3:00 PM Where: Westport VFW Enjoy delicious food g
 enerously donated by the Westport VFW\, and cheer&amp;hellip\;
CATEGORIES:Community Events
URL;VALUE=URI:https://thevabc.org/mc-events/army-vs-navy-football-watch-par
 ty-2/
METHOD:PUBLISH
END:VEVENT
END:VCALENDAR