BEGIN:VCALENDAR
VERSION:2.0
PRODID:spatie/icalendar-generator
DESCRIPTION:Events from Veterans Association of Bristol County
X-WR-CALDESC:Events from Veterans Association of Bristol County
REFRESH-INTERVAL;VALUE=DURATION:PT1440M
X-PUBLISHED-TTL:PT1440M
BEGIN:VTIMEZONE
TZID:America/New_York
BEGIN:STANDARD
DTSTART:20231105T020000Z
TZOFFSETFROM:-0400
TZOFFSETTO:-0500
END:STANDARD
BEGIN:DAYLIGHT
DTSTART:20240310T020000Z
TZOFFSETFROM:-0500
TZOFFSETTO:-0400
END:DAYLIGHT
BEGIN:STANDARD
DTSTART:20241103T020000Z
TZOFFSETFROM:-0400
TZOFFSETTO:-0500
END:STANDARD
END:VTIMEZONE
BEGIN:VTIMEZONE
TZID:UTC
BEGIN:STANDARD
DTSTART:20250725T084845Z
TZOFFSETFROM:+0000
TZOFFSETTO:+0000
END:STANDARD
END:VTIMEZONE
BEGIN:VEVENT
UID:6823-20
DTSTAMP:20260421T084845Z
SUMMARY:Clam Boil
LOCATION:VFW Post 8502 Westport  843 State Rd  Westport MA 02790
ORGANIZER;CN=business@thevabc.org:MAILTO:business@thevabc.org
DTSTART;TZID=America/New_York:20240602T120000
DTEND;TZID=America/New_York:20240602T130000
X-ALT-DESC;FMTTYPE=TEXT/HTML:Join us for an unforgettable afternoon of fun\
 , food\, and fantastic music at the VFW Post 8502 in Westport on Sunday\, 
 June 2\, 2024. Get ready to dive into the flavors of summer with our mouth
 watering New England clam boil and groove to the rhythm of live music by C
 lassic Double Shot. Doors open at&amp;hellip\;
CATEGORIES:Community Events
URL;VALUE=URI:https://thevabc.org/mc-events/clam-boil/
METHOD:PUBLISH
END:VEVENT
END:VCALENDAR