BEGIN:VCALENDAR
VERSION:2.0
PRODID:spatie/icalendar-generator
DESCRIPTION:Events from Veterans Association of Bristol County
X-WR-CALDESC:Events from Veterans Association of Bristol County
REFRESH-INTERVAL;VALUE=DURATION:PT1440M
X-PUBLISHED-TTL:PT1440M
BEGIN:VTIMEZONE
TZID:America/New_York
BEGIN:STANDARD
DTSTART:20241103T020000Z
TZOFFSETFROM:-0400
TZOFFSETTO:-0500
END:STANDARD
BEGIN:DAYLIGHT
DTSTART:20250309T020000Z
TZOFFSETFROM:-0500
TZOFFSETTO:-0400
END:DAYLIGHT
BEGIN:STANDARD
DTSTART:20251102T020000Z
TZOFFSETFROM:-0400
TZOFFSETTO:-0500
END:STANDARD
END:VTIMEZONE
BEGIN:VTIMEZONE
TZID:UTC
BEGIN:STANDARD
DTSTART:20250725T101632Z
TZOFFSETFROM:+0000
TZOFFSETTO:+0000
END:STANDARD
END:VTIMEZONE
BEGIN:VEVENT
UID:6852-46
DTSTAMP:20260421T101632Z
SUMMARY:Golf Tournament
LOCATION:Swansea Country Club 299 Market St.  Swansea  MA 02777
ORGANIZER;CN=business@thevabc.org:MAILTO:business@thevabc.org
DTSTART;TZID=America/New_York:20250509T080000
DTEND;TZID=America/New_York:20250509T090000
X-ALT-DESC;FMTTYPE=TEXT/HTML:Join Us for a Day of Fun\, Laughter\, and Golf
 ing Good Times! Mark your calendars for May 9\, 2025\, and get ready to s
 wing\, laugh\, and have an unforgettable day at our annual golf tournament
  at the Swansea Country Club\, located at 299 Market St.\, Swansea\, MA!
  This isn’t your typical round of golf – it’s a hilarious&amp;hellip\;
CATEGORIES:Community Events
URL;VALUE=URI:https://thevabc.org/mc-events/golf-tournament/
METHOD:PUBLISH
END:VEVENT
END:VCALENDAR