BEGIN:VCALENDAR
VERSION:2.0
PRODID:spatie/icalendar-generator
DESCRIPTION:Events from Veterans Association of Bristol County
X-WR-CALDESC:Events from Veterans Association of Bristol County
REFRESH-INTERVAL;VALUE=DURATION:PT1440M
X-PUBLISHED-TTL:PT1440M
BEGIN:VTIMEZONE
TZID:America/New_York
BEGIN:DAYLIGHT
DTSTART:20250309T020000Z
TZOFFSETFROM:-0500
TZOFFSETTO:-0400
END:DAYLIGHT
BEGIN:STANDARD
DTSTART:20251102T020000Z
TZOFFSETFROM:-0400
TZOFFSETTO:-0500
END:STANDARD
END:VTIMEZONE
BEGIN:VTIMEZONE
TZID:UTC
BEGIN:STANDARD
DTSTART:20250725T100129Z
TZOFFSETFROM:+0000
TZOFFSETTO:+0000
END:STANDARD
END:VTIMEZONE
BEGIN:VEVENT
UID:6859-53
DTSTAMP:20260421T100129Z
SUMMARY:Labor Day Cookout
LOCATION:The VABC 755 Pine St  Fall River MA  02721
ORGANIZER;CN=business@thevabc.org:MAILTO:business@thevabc.org
DTSTART;TZID=America/New_York:20250828T110000
DTEND;TZID=America/New_York:20250828T120000
X-ALT-DESC;FMTTYPE=TEXT/HTML:Join the VABC for a Labor Day Cookout on Thurs
 day\, August 28\, 2025! Enjoy a day of great food\, camaraderie\, and fun 
 as we celebrate and honor our veterans. The cookout kicks off at 11 AM and
  continues until the food runs out. This event is exclusively for veterans
 —we look forward to seeing you there!
CATEGORIES:Veteran Events
URL;VALUE=URI:https://thevabc.org/mc-events/labor-day-cookout-2/
METHOD:PUBLISH
END:VEVENT
END:VCALENDAR