BEGIN:VCALENDAR
VERSION:2.0
PRODID:spatie/icalendar-generator
DESCRIPTION:Events from Veterans Association of Bristol County
X-WR-CALDESC:Events from Veterans Association of Bristol County
REFRESH-INTERVAL;VALUE=DURATION:PT1440M
X-PUBLISHED-TTL:PT1440M
BEGIN:VTIMEZONE
TZID:America/New_York
BEGIN:STANDARD
DTSTART:20251102T020000Z
TZOFFSETFROM:-0400
TZOFFSETTO:-0500
END:STANDARD
BEGIN:DAYLIGHT
DTSTART:20260308T020000Z
TZOFFSETFROM:-0500
TZOFFSETTO:-0400
END:DAYLIGHT
BEGIN:STANDARD
DTSTART:20261101T020000Z
TZOFFSETFROM:-0400
TZOFFSETTO:-0500
END:STANDARD
END:VTIMEZONE
BEGIN:VTIMEZONE
TZID:UTC
BEGIN:STANDARD
DTSTART:20250725T085932Z
TZOFFSETFROM:+0000
TZOFFSETTO:+0000
END:STANDARD
END:VTIMEZONE
BEGIN:VEVENT
UID:6884-70
DTSTAMP:20260421T085932Z
SUMMARY:Outrageous Golf Tournament
LOCATION:Swansea Country Club 299 Market St.  Swansea  MA 02777
ORGANIZER;CN=business@thevabc.org:MAILTO:business@thevabc.org
DTSTART;TZID=America/New_York;VALUE=DATE:20260508
DTEND;TZID=America/New_York;VALUE=DATE:20260509
X-ALT-DESC;FMTTYPE=TEXT/HTML:[caption id=\"attachment_4264\" align=\"alignn
 one\" width=\"232\"] Outrageous Golf Tournament[/caption] Mark your calend
 ars for May 8\, 2026\, and get ready to swing\, laugh\, and have an unfor
 gettable day at our annual golf tournament at the Swansea Country Club. T
 his isn’t your typical round of golf – it’s a hilarious adventure fu
 ll of wacky games\, goofy challenges\, and endless laughter with&amp;hellip\;
CATEGORIES:Community Events
URL;VALUE=URI:https://thevabc.org/mc-events/outrageous-golf-tournament/
METHOD:PUBLISH
END:VEVENT
END:VCALENDAR