BEGIN:VCALENDAR
VERSION:2.0
PRODID:spatie/icalendar-generator
DESCRIPTION:Events from Veterans Association of Bristol County
X-WR-CALDESC:Events from Veterans Association of Bristol County
REFRESH-INTERVAL;VALUE=DURATION:PT1440M
X-PUBLISHED-TTL:PT1440M
BEGIN:VTIMEZONE
TZID:America/New_York
BEGIN:DAYLIGHT
DTSTART:20240310T020000Z
TZOFFSETFROM:-0500
TZOFFSETTO:-0400
END:DAYLIGHT
BEGIN:STANDARD
DTSTART:20241103T020000Z
TZOFFSETFROM:-0400
TZOFFSETTO:-0500
END:STANDARD
END:VTIMEZONE
BEGIN:VTIMEZONE
TZID:UTC
BEGIN:STANDARD
DTSTART:20250725T111448Z
TZOFFSETFROM:+0000
TZOFFSETTO:+0000
END:STANDARD
END:VTIMEZONE
BEGIN:VEVENT
UID:6832-29
DTSTAMP:20260421T111448Z
SUMMARY:Veteran Appreciation Cookout
LOCATION:Veterans Association of Bristol County - VABC 755 Pine Street  Fal
 l River\, MA 02720
ORGANIZER;CN=business@thevabc.org:MAILTO:business@thevabc.org
DTSTART;TZID=America/New_York:20240805T110000
DTEND;TZID=America/New_York:20240805T140000
X-ALT-DESC;FMTTYPE=TEXT/HTML:Tequila Lime Event flyer Join Us for a Special
  Veteran Appreciation Lunch with Tequila Lime Cantina! We are thrilled to 
 announce that Tequila Lime Cantina will host a veterans appreciation lunch
  on August 5th from 11 am to 2 pm here at the VABC. Join us for an unforge
 ttable afternoon of delicious food and great&amp;hellip\;
CATEGORIES:Veteran Events
URL;VALUE=URI:https://thevabc.org/mc-events/veteran-appreciation-cookout/
METHOD:PUBLISH
END:VEVENT
END:VCALENDAR