BEGIN:VCALENDAR
VERSION:2.0
PRODID:spatie/icalendar-generator
DESCRIPTION:Events from Veterans Association of Bristol County
X-WR-CALDESC:Events from Veterans Association of Bristol County
REFRESH-INTERVAL;VALUE=DURATION:PT1440M
X-PUBLISHED-TTL:PT1440M
BEGIN:VTIMEZONE
TZID:America/New_York
BEGIN:STANDARD
DTSTART:20241103T020000Z
TZOFFSETFROM:-0400
TZOFFSETTO:-0500
END:STANDARD
BEGIN:DAYLIGHT
DTSTART:20250309T020000Z
TZOFFSETFROM:-0500
TZOFFSETTO:-0400
END:DAYLIGHT
BEGIN:STANDARD
DTSTART:20251102T020000Z
TZOFFSETFROM:-0400
TZOFFSETTO:-0500
END:STANDARD
END:VTIMEZONE
BEGIN:VTIMEZONE
TZID:UTC
BEGIN:STANDARD
DTSTART:20250725T095240Z
TZOFFSETFROM:+0000
TZOFFSETTO:+0000
END:STANDARD
END:VTIMEZONE
BEGIN:VEVENT
UID:6863-56
DTSTAMP:20260421T095240Z
SUMMARY:Women Veterans Get Together
LOCATION:Middleboro American Legion 24 High St.  Middleboro  MA 02346
ORGANIZER;CN=business@thevabc.org:MAILTO:business@thevabc.org
DTSTART;TZID=America/New_York:20250504T110000
DTEND;TZID=America/New_York:20250504T145900
X-ALT-DESC;FMTTYPE=TEXT/HTML:Join us for a SHEROES special gathering to cel
 ebrate and connect with fellow women veterans! This event is hosted by the
  Middleboro American Legion and the Veterans Association of Bristol County
 . Enjoy lunch\, a guest speaker\, camaraderie\, and the opportunity to mee
 t other women who have served our country. Call Mary to RSVP at (339)&amp;hell
 ip\;
CATEGORIES:Sheroes
URL;VALUE=URI:https://thevabc.org/mc-events/women-veterans-get-together/
METHOD:PUBLISH
END:VEVENT
END:VCALENDAR